BEGIN:VCALENDAR
VERSION:2.0
PRODID:-//lsv-z.de - ECPv5.10.1//NONSGML v1.0//EN
CALSCALE:GREGORIAN
METHOD:PUBLISH
X-WR-CALNAME:lsv-z.de
X-ORIGINAL-URL:https://lsv-z.de
X-WR-CALDESC:Events for lsv-z.de
BEGIN:VTIMEZONE
TZID:Europe/Berlin
BEGIN:DAYLIGHT
TZOFFSETFROM:+0100
TZOFFSETTO:+0200
TZNAME:CEST
DTSTART:20230326T010000
END:DAYLIGHT
BEGIN:STANDARD
TZOFFSETFROM:+0200
TZOFFSETTO:+0100
TZNAME:CET
DTSTART:20231029T010000
END:STANDARD
END:VTIMEZONE
BEGIN:VEVENT
DTSTART;TZID=Europe/Berlin:20230422T170000
DTEND;TZID=Europe/Berlin:20230422T170000
DTSTAMP:20260422T125019
CREATED:20230216T135104Z
LAST-MODIFIED:20230216T135146Z
UID:754-1682182800-1682182800@lsv-z.de
SUMMARY:2. Männer TSV Eisenberg - LSV Ziegelheim
DESCRIPTION:
URL:https://lsv-z.de/event/2-maenner-hbv-jena-iv-lsv-ziegelheim-2/
LOCATION:Sporthalle Schillergymnasium Eisenberg\, Schillerstraße 1\, Eisenberg\, 07607
CATEGORIES:2. Männer
END:VEVENT
END:VCALENDAR