BEGIN:VCALENDAR
VERSION:2.0
PRODID:-//lsv-z.de - ECPv5.10.1//NONSGML v1.0//EN
CALSCALE:GREGORIAN
METHOD:PUBLISH
X-WR-CALNAME:lsv-z.de
X-ORIGINAL-URL:https://lsv-z.de
X-WR-CALDESC:Events for lsv-z.de
BEGIN:VTIMEZONE
TZID:Europe/Berlin
BEGIN:DAYLIGHT
TZOFFSETFROM:+0100
TZOFFSETTO:+0200
TZNAME:CEST
DTSTART:20230326T010000
END:DAYLIGHT
BEGIN:STANDARD
TZOFFSETFROM:+0200
TZOFFSETTO:+0100
TZNAME:CET
DTSTART:20231029T010000
END:STANDARD
END:VTIMEZONE
BEGIN:VEVENT
DTSTART;TZID=Europe/Berlin:20230305T100000
DTEND;TZID=Europe/Berlin:20230305T100000
DTSTAMP:20260421T103329
CREATED:20230216T143428Z
LAST-MODIFIED:20230216T143428Z
UID:792-1678010400-1678010400@lsv-z.de
SUMMARY:gem. Jugend D JSG Altenburger Land
DESCRIPTION:10:20 gegen HSG Werratal 05 \n11:05 gegen SV Petkus Wutha-Farnroda \n11:30 gegen HSV Weimar \n12:35 gegen HSG Werratal 05 \n13:20 gegen SV Petkus Wutha-Farnroda \n13:45 gegen HSV Weimar
URL:https://lsv-z.de/event/gem-jugend-d-jsg-altenburger-land/
LOCATION:„Asbach“ Sporthalle Weimar\, Florian-Geyer-Straße 77\, Weimar\, 99425
CATEGORIES:gem. Jugend D
END:VEVENT
END:VCALENDAR